BEGIN:VCALENDAR
VERSION:2.0
PRODID:-//Black El Paso Democrats - ECPv6.15.12.2//NONSGML v1.0//EN
CALSCALE:GREGORIAN
METHOD:PUBLISH
X-ORIGINAL-URL:https://bepd.org
X-WR-CALDESC:Events for Black El Paso Democrats
REFRESH-INTERVAL;VALUE=DURATION:PT1H
X-Robots-Tag:noindex
X-PUBLISHED-TTL:PT1H
BEGIN:VTIMEZONE
TZID:UTC
BEGIN:STANDARD
TZOFFSETFROM:+0000
TZOFFSETTO:+0000
TZNAME:UTC
DTSTART:20210101T000000
END:STANDARD
END:VTIMEZONE
BEGIN:VTIMEZONE
TZID:Atlantic/Azores
BEGIN:DAYLIGHT
TZOFFSETFROM:-0100
TZOFFSETTO:+0000
TZNAME:+00
DTSTART:20210328T010000
END:DAYLIGHT
BEGIN:STANDARD
TZOFFSETFROM:+0000
TZOFFSETTO:-0100
TZNAME:-01
DTSTART:20211031T010000
END:STANDARD
BEGIN:DAYLIGHT
TZOFFSETFROM:-0100
TZOFFSETTO:+0000
TZNAME:+00
DTSTART:20220327T010000
END:DAYLIGHT
BEGIN:STANDARD
TZOFFSETFROM:+0000
TZOFFSETTO:-0100
TZNAME:-01
DTSTART:20221030T010000
END:STANDARD
BEGIN:DAYLIGHT
TZOFFSETFROM:-0100
TZOFFSETTO:+0000
TZNAME:+00
DTSTART:20230326T010000
END:DAYLIGHT
BEGIN:STANDARD
TZOFFSETFROM:+0000
TZOFFSETTO:-0100
TZNAME:-01
DTSTART:20231029T010000
END:STANDARD
END:VTIMEZONE
BEGIN:VEVENT
DTSTART;TZID=UTC:20230116T120000
DTEND;TZID=UTC:20230116T140000
DTSTAMP:20260423T185555
CREATED:20230112T004335Z
LAST-MODIFIED:20230112T004335Z
UID:4092-1673870400-1673877600@bepd.org
SUMMARY:MLK Day Luncheon
DESCRIPTION:
URL:https://bepd.org/event/mlk-day-luncheon/
LOCATION:McCall Center\, 3231 Wyoming Ave.\, El Paso\, Texas\, 79903
CATEGORIES:Black El Paso Democrats Calendar
ATTACH;FMTTYPE=image/jpeg:https://bepd.org/wp-content/uploads/2023/01/2023-MLK-.jpg
END:VEVENT
BEGIN:VEVENT
DTSTART;TZID=UTC:20230111T173000
DTEND;TZID=UTC:20230111T190000
DTSTAMP:20260423T185555
CREATED:20230108T031538Z
LAST-MODIFIED:20230108T031538Z
UID:4075-1673458200-1673463600@bepd.org
SUMMARY:Melissa Baeza Investiture Ceremony
DESCRIPTION:
URL:https://bepd.org/event/melissa-baeza-investiture-ceremony/
LOCATION:Montwood High School Theater\, 12000 Montwood Dr.\, El Paso\, TX\, United States
CATEGORIES:Black El Paso Democrats Calendar
ATTACH;FMTTYPE=image/jpeg:https://bepd.org/wp-content/uploads/2023/01/Melissa-Baeza.jpg
END:VEVENT
BEGIN:VEVENT
DTSTART;TZID=UTC:20230110T180000
DTEND;TZID=UTC:20230110T193000
DTSTAMP:20260423T185555
CREATED:20230108T031917Z
LAST-MODIFIED:20230108T031917Z
UID:4079-1673373600-1673379000@bepd.org
SUMMARY:El Paso County Democratic Party CEC Monthly Meeting
DESCRIPTION:
URL:https://bepd.org/event/el-paso-county-democratic-party-cec-monthly-meeting/
LOCATION:Old Sheepdog Brewery\, 3900 Rosa Ave\, El Paso\, TX\, 79905\, United States
CATEGORIES:Black El Paso Democrats Calendar
ATTACH;FMTTYPE=image/jpeg:https://bepd.org/wp-content/uploads/2023/01/CEC-Deputization.jpg
END:VEVENT
BEGIN:VEVENT
DTSTART;TZID=UTC:20221013T190000
DTEND;TZID=UTC:20221013T190000
DTSTAMP:20260423T185555
CREATED:20220910T205250Z
LAST-MODIFIED:20220916T041442Z
UID:3795-1665687600-1665687600@bepd.org
SUMMARY:Candidates Forum
DESCRIPTION:Candidates for City Council.
URL:https://bepd.org/event/candidates-forum/
LOCATION:McCall Center\, 3231 Wyoming Ave.\, El Paso\, Texas\, 79903
CATEGORIES:Black El Paso Democrats Calendar
ATTACH;FMTTYPE=image/jpeg:https://bepd.org/wp-content/uploads/2022/09/BEPD-Pic-2-2-1-1-1-1-1.jpg
END:VEVENT
BEGIN:VEVENT
DTSTART;TZID=UTC:20221010T070000
DTEND;TZID=UTC:20221014T150000
DTSTAMP:20260423T185555
CREATED:20220916T040356Z
LAST-MODIFIED:20220916T041220Z
UID:3881-1665385200-1665759600@bepd.org
SUMMARY:El Paso County Democratic Party Enchilada Dinner
DESCRIPTION:Join the El Paso County Democratic Party with some yummy enchiladas from Martita’s Lunch Box between Monday October 10th through Friday October 14th! You can pick up your plate from 7:00am though 3:00pm. \nTickets are $10.00 a plate – beverage not included.
URL:https://bepd.org/event/el-paso-county-democratic-party-enchilada-dinner/
LOCATION:The Lunch Box\, 3623 Buckner St\, El Paso\, TX\, 79925\, United States
ATTACH;FMTTYPE=image/jpeg:https://bepd.org/wp-content/uploads/2022/09/Lunch-Box.jpg
END:VEVENT
BEGIN:VEVENT
DTSTART;TZID=Atlantic/Azores:20220915T190000
DTEND;TZID=Atlantic/Azores:20220915T203000
DTSTAMP:20260423T185555
CREATED:20220831T175951Z
LAST-MODIFIED:20220914T234132Z
UID:1750-1663268400-1663273800@bepd.org
SUMMARY:BEPD Monthly Calendar
DESCRIPTION:Monthly Meetings/Events
URL:https://bepd.org/event/bepd-monthly-meeting/
LOCATION:McCall Center\, 3231 Wyoming Ave.\, El Paso\, Texas\, 79903
CATEGORIES:Black El Paso Democrats Calendar
ATTACH;FMTTYPE=image/jpeg:https://bepd.org/wp-content/uploads/2022/08/BEPD-Pic-2.jpg
END:VEVENT
END:VCALENDAR